BEGIN:VCALENDAR
VERSION:2.0
PRODID:-//Independence House Teens - ECPv6.15.20//NONSGML v1.0//EN
CALSCALE:GREGORIAN
METHOD:PUBLISH
X-WR-CALNAME:Independence House Teens
X-ORIGINAL-URL:https://independencehouseteens.org
X-WR-CALDESC:Events for Independence House Teens
REFRESH-INTERVAL;VALUE=DURATION:PT1H
X-Robots-Tag:noindex
X-PUBLISHED-TTL:PT1H
BEGIN:VTIMEZONE
TZID:UTC
BEGIN:STANDARD
TZOFFSETFROM:+0000
TZOFFSETTO:+0000
TZNAME:UTC
DTSTART:20240101T000000
END:STANDARD
END:VTIMEZONE
BEGIN:VEVENT
DTSTART;TZID=UTC:20250227T110000
DTEND;TZID=UTC:20250227T130000
DTSTAMP:20260421T113913
CREATED:20250130T210822Z
LAST-MODIFIED:20250130T210822Z
UID:1424-1740654000-1740661200@independencehouseteens.org
SUMMARY:Teen POP-UP Days- St John Paul II High School
DESCRIPTION:
URL:https://independencehouseteens.org/event/teen-pop-up-days-st-john-paul-ii-high-school/
LOCATION:St. John Paul II High School\, 120 High School Rd.\, Hyannis\, 02601\, United States
CATEGORIES:Networking
END:VEVENT
BEGIN:VEVENT
DTSTART;TZID=UTC:20250224T110000
DTEND;TZID=UTC:20250224T130000
DTSTAMP:20260421T113913
CREATED:20250130T210439Z
LAST-MODIFIED:20250130T210439Z
UID:1421-1740394800-1740402000@independencehouseteens.org
SUMMARY:Teen POP-UP Days- Falmouth High School
DESCRIPTION:
URL:https://independencehouseteens.org/event/teen-pop-up-days-falmouth-high-school/
LOCATION:Falmouth High School\, 874 Gifford Street\, Falmouth\, MA\, 02540\, United States
CATEGORIES:Networking
END:VEVENT
BEGIN:VEVENT
DTSTART;TZID=UTC:20250211T110000
DTEND;TZID=UTC:20250211T130000
DTSTAMP:20260421T113913
CREATED:20250130T210222Z
LAST-MODIFIED:20250130T210222Z
UID:1418-1739271600-1739278800@independencehouseteens.org
SUMMARY:Teen POP-UP Days- Cape Cod Regional Technical School
DESCRIPTION:
URL:https://independencehouseteens.org/event/teen-pop-up-days-cape-cod-regional-technical-school/
LOCATION:Cape Cod Regional Technical School\, 351 Pleasant Lake ave\, Harwich\, 02645\, United States
CATEGORIES:Networking
END:VEVENT
BEGIN:VEVENT
DTSTART;TZID=UTC:20250210T110000
DTEND;TZID=UTC:20250210T130000
DTSTAMP:20260421T113913
CREATED:20250130T205818Z
LAST-MODIFIED:20250130T205818Z
UID:1415-1739185200-1739192400@independencehouseteens.org
SUMMARY:Teen POP-UP Days- Nauset Regional High School
DESCRIPTION:
URL:https://independencehouseteens.org/event/teen-pop-up-days-nauset-regional-high-school/
LOCATION:Nauset Regional High School\, 100 Cable Rd.\, Eastham\, MA\, 02642\, United States
CATEGORIES:Networking
END:VEVENT
BEGIN:VEVENT
DTSTART;TZID=UTC:20250206T110000
DTEND;TZID=UTC:20250206T130000
DTSTAMP:20260421T113913
CREATED:20250130T204844Z
LAST-MODIFIED:20250130T204844Z
UID:1410-1738839600-1738846800@independencehouseteens.org
SUMMARY:Teen POP-UP Days- Sturgis Charter Public School East
DESCRIPTION:
URL:https://independencehouseteens.org/event/teen-pop-up-days-sturgis-charter-public-school-east/
LOCATION:Sturgis Charter Public School East\, 427 Main Street\, Hyannis\, 02601\, United States
CATEGORIES:Networking
END:VEVENT
BEGIN:VEVENT
DTSTART;TZID=UTC:20250204T110000
DTEND;TZID=UTC:20250204T130000
DTSTAMP:20260421T113913
CREATED:20250130T204528Z
LAST-MODIFIED:20250130T204952Z
UID:1406-1738666800-1738674000@independencehouseteens.org
SUMMARY:Teen POP-UP Days- Sturgis Charter Public School West
DESCRIPTION:
URL:https://independencehouseteens.org/event/teen-pop-up-days-sturgis-charter-public-school-west/
LOCATION:Sturgis Charter Public School West\, 105 West Main Street\, Hyannis\, MA\, 02601\, United States
CATEGORIES:Networking
END:VEVENT
END:VCALENDAR